BEGIN:VCALENDAR
VERSION:2.0
PRODID:-//Dra. Paula França - ECPv4.6.21//NONSGML v1.0//EN
CALSCALE:GREGORIAN
METHOD:PUBLISH
X-WR-CALNAME:Dra. Paula França
X-ORIGINAL-URL:https://www.marketingpre.com.br
X-WR-CALDESC:Eventos para Dra. Paula França
BEGIN:VEVENT
DTSTART;TZID=America/Sao_Paulo:20161120T000000
DTEND;TZID=America/Sao_Paulo:20161124T000000
DTSTAMP:20260420T103147
CREATED:20161118T191302Z
LAST-MODIFIED:20161214T014652Z
UID:296-1479600000-1479945600@www.marketingpre.com.br
SUMMARY:Congrestética 2016
DESCRIPTION:Confira o vídeo de divulgação do evento: \n\nhttp://www.pauladefranca.com.br/wp-content/uploads/2016/11/VID-20161102-WA0008.mp4\n \nConfira a galeria de fotos: \n\n\n			\n			\n				\n													\n								\n											\n							\n															\n						\n									\n				\n					\n																				\n			\n		\n				\n			\n				\n													\n								\n											\n							\n															\n						\n									\n				\n					\n																				\n			\n		\n				\n			\n				\n													\n								\n											\n							\n															\n						\n									\n				\n					\n																				\n			\n		\n				\n			\n				\n													\n								\n											\n							\n															\n						\n									\n				\n					\n																				\n			\n		\n				\n			\n				\n													\n								\n											\n							\n															\n						\n									\n				\n					\n																				\n			\n		\n				\n			\n				\n													\n								\n											\n							\n															\n						\n									\n				\n					\n																				\n			\n		\n				\n			\n				\n													\n								\n											\n							\n															\n						\n									\n				\n					\n																				\n			\n		\n				\n			\n				\n													\n								\n											\n							\n															\n						\n									\n				\n					\n																				\n			\n		\n				\n			\n				\n													\n								\n											\n							\n															\n						\n									\n				\n					\n																				\n			\n		\n		\n\n    /***For Content Slider view***/\n#p-main-slider_10 .play-icon.youtube-icon  {\n    background: url('https://www.marketingpre.com.br/wp-content/plugins/portfolio-gallery/assets/images/admin_images/play.youtube.png') center center no-repeat;\n    background-size: 30% 30%;\n}\n#p-main-slider_10 .play-icon.vimeo-icon  {\n    background: url('https://www.marketingpre.com.br/wp-content/plugins/portfolio-gallery/assets/images/admin_images/play.vimeo.png') center center no-repeat;\n    background-size: 30% 30%;\n}\n#p-main-slider_10 .play-icon {\n    position: absolute;\n    top: 0;\n    left: 0;\n    width: 100%;\n    height: 100%;\n}\n#p-main-slider_10  .add-H-relative {\n    position: relative;\n}\n#p-main-slider_10  .add-H-block {\n    display: block;\n}\n/******/\n#p-main-slider_10-wrapper .ls-nav { display: none; }\n#p-main-slider_10 {background:#f9f9f9;}\n\n#p-main-slider_10 div.slider-content {\n    position:relative;\n    width:100%;\n    padding:0 0 0 0;\n    position:relative;\n    background:#f9f9f9;\n}\n\n\n\n[class$="-arrow"] {\n    background-image:url('https://www.marketingpre.com.br/wp-content/plugins/portfolio-gallery/assets/images/admin_images/arrow.dark.png') !important;\n}\n\n.ls-select-box {\n    background:url('https://www.marketingpre.com.br/wp-content/plugins/portfolio-gallery/assets/images/admin_images/menu.dark.png') right center no-repeat #f9f9f9 !important;\n}\n\n#p-main-slider_10-nav-select {\n    color:#0074a2;\n}\n\n#p-main-slider_10 div.slider-content .slider-content-wrapper {\n    position:relative;\n    width:100%;\n    padding:0;\n    display:block;\n}\n\n#p-main-slider_10 .slider-content-wrapper .image-block_10 {\n    width:275px;\n    display:inline-block;\n    padding:0 10px 0 0;\n    float:left;\n}\n\n#p-main-slider_10 .slider-content-wrapper .image-block_10 a{\n    display: inline-block;\n    width: 100%;\n    height: 100%;\n}\n\n#p-main-slider_10 .slider-content-wrapper .image-block_10 img.main-image {\n    position:relative;\n    width:100%;\n    height:auto;\n    display:block;\n}\n\n#p-main-slider_10 .slider-content-wrapper .image-block_10 ul.thumbs-list_10 {\n    list-style:none;\n    display:table;\n    position:relative;\n    clear:both;\n    width:100%;\n    margin:10px 0 0 0;\n    padding:0;\n    clear:both;\n}\n\n#p-main-slider_10 .slider-content-wrapper .image-block_10 ul.thumbs-list_10 li {\n    display:block;\n    float:left;\n    width:75px;\n    height:75px;\n    margin:0 2% 5px 1%;\n    opacity:0.45;\n}\n\n#p-main-slider_10 .slider-content-wrapper .image-block_10 ul.thumbs-list_10 li.active\,#p-main-slider_10 .slider-content-wrapper .image-block_10 ul.thumbs-list_10 li:hover {\n    opacity:1;\n}\n\n#p-main-slider_10 .slider-content-wrapper .image-block_10 ul.thumbs-list_10 li a {\n    border: none;\n    display:block;\n}\n\n#p-main-slider_10 .slider-content-wrapper .image-block_10 ul.thumbs-list_10 li img {\n    margin:0 !important;\n    padding:0 !important;\n    width:75px !important;\n    height:75px !important;\n}\n\n#p-main-slider_10 .slider-content-wrapper .right-block {\n    display:inline-block;\n    width: calc(100% - 285px);\n}\n\n#p-main-slider_10 .slider-content-wrapper .right-block > div {\n    padding-bottom:10px;\n    margin-top:10px;\n    background:url('https://www.marketingpre.com.br/wp-content/plugins/portfolio-gallery/assets/images/admin_images/divider.line.png') center bottom repeat-x;\n}\n#p-main-slider_10 .slider-content-wrapper .right-block > div:last-child {background:none;}\n\n\n#p-main-slider_10 .slider-content-wrapper .right-block .title {\n    position:relative;\n    display:block;\n    margin:-10px 0 0 0;\n    font-size:16px !important;\n    line-height:20px !important;\n    color:#0074a2;\n}\n\n#p-main-slider_10 .slider-content-wrapper .right-block .description {\n    clear:both;\n    position:relative;\n    text-align:justify;\n    font-size:14px !important;\n    line-height:18px !important;\n    color:#555555;\n}\n\n#p-main-slider_10 .slider-content-wrapper .right-block .description h1\,\n#p-main-slider_10 .slider-content-wrapper .right-block .description h2\,\n#p-main-slider_10 .slider-content-wrapper .right-block .description h3\,\n#p-main-slider_10 .slider-content-wrapper .right-block .description h4\,\n#p-main-slider_10 .slider-content-wrapper .right-block .description h5\,\n#p-main-slider_10 .slider-content-wrapper .right-block .description h6\,\n#p-main-slider_10 .slider-content-wrapper .right-block .description p\,\n#p-main-slider_10 .slider-content-wrapper .right-block .description strong\,\n#p-main-slider_10 .slider-content-wrapper .right-block .description span {\n    padding:2px !important;\n    margin:0 !important;\n}\n\n#p-main-slider_10 .slider-content-wrapper .right-block .description ul\,\n#p-main-slider_10 .slider-content-wrapper .right-block .description li {\n    padding:2px 0 2px 5px;\n    margin:0 0 0 8px;\n}\n\n\n\n#p-main-slider_10 .slider-content-wrapper .button-block {\n    position:relative;\n}\n\n#p-main-slider_10 .slider-content-wrapper .button-block a\,#p-main-slider_10 .slider-content-wrapper .button-block a:link\,#p-main-slider_10 .slider-content-wrapper .button-block a:visited{\n    position:relative;\n    display:inline-block;\n    padding:6px 12px;\n    background:#2ea2cd;\n    color:#ffffff;\n    font-size:14px;\n    text-decoration:none;\n    border:none;\n}\n\n#p-main-slider_10 .slider-content-wrapper .button-block a:hover\,#p-main-slider_10 .slider-content-wrapper .button-block a:focus\,#p-main-slider_10 .slider-content-wrapper .button-block a:active {\n    background:#0074a2;\n    color:#ffffff;\n}\n\n@media only screen and (min-width:500px) {\n    #main-slider-nav-ul {\n        visibility:hidden !important;\n        height:1px;\n    }\n}\n\n@media only screen and (max-width:500px) {\n    #p-main-slider_10 .slider-content-wrapper .image-block_10\,#p-main-slider_10 .slider-content-wrapper .right-block {\n        width:100%;\n        display:block;\n        float:none;\n        clear:both;\n    }\n}\n@media only screen and (max-width: 2000px) and (min-width: 500px) {\n    #p-main-slider_10 .slider-content-wrapper .image-block_10\,#p-main-slider_10 .slider-content-wrapper .right-block {\n        width:100%;\n        display:block;\n        float:none;\n        clear:both;\n    }\n\n\n		\n		Compartilhar:Clique para compartilhar no Twitter(abre em nova janela)Clique para compartilhar no Facebook(abre em nova janela)Compartilhe no Google+(abre em nova janela)Clique para compartilhar no LinkedIn(abre em nova janela)Clique para compartilhar no WhatsApp(abre em nova janela)\n\n	Relacionado\n
URL:https://www.marketingpre.com.br/calendario/2o-congresso-cientifico-de-estetica-2016-2-2-2/
ATTACH;FMTTYPE=image/jpeg:https://www.marketingpre.com.br/wp-content/uploads/2016/11/congrestetica2016-capa.jpg
END:VEVENT
END:VCALENDAR