BEGIN:VCALENDAR
VERSION:2.0
PRODID:-//Dra. Paula França - ECPv4.6.21//NONSGML v1.0//EN
CALSCALE:GREGORIAN
METHOD:PUBLISH
X-WR-CALNAME:Dra. Paula França
X-ORIGINAL-URL:https://www.marketingpre.com.br
X-WR-CALDESC:Eventos para Dra. Paula França
BEGIN:VEVENT
DTSTART;VALUE=DATE:20170130
DTEND;VALUE=DATE:20170131
DTSTAMP:20260420T115755
CREATED:20161220T175631Z
LAST-MODIFIED:20161220T182508Z
UID:1048-1485734400-1485820799@www.marketingpre.com.br
SUMMARY:30/01/2017 - Curso: Taping Estético
DESCRIPTION: \n\n		\n		Compartilhar:Clique para compartilhar no Twitter(abre em nova janela)Clique para compartilhar no Facebook(abre em nova janela)Compartilhe no Google+(abre em nova janela)Clique para compartilhar no LinkedIn(abre em nova janela)Clique para compartilhar no WhatsApp(abre em nova janela)\n\n	Relacionado\n
URL:https://www.marketingpre.com.br/calendario/30012017-mundo-estetica/
ATTACH;FMTTYPE=image/jpeg:https://www.marketingpre.com.br/wp-content/uploads/2016/12/IMG-20161220-WA0028.jpg
END:VEVENT
END:VCALENDAR