BEGIN:VCALENDAR
VERSION:2.0
PRODID:-//Dra. Paula França - ECPv4.6.21//NONSGML v1.0//EN
CALSCALE:GREGORIAN
METHOD:PUBLISH
X-WR-CALNAME:Dra. Paula França
X-ORIGINAL-URL:https://www.marketingpre.com.br
X-WR-CALDESC:Eventos para Dra. Paula França
BEGIN:VEVENT
DTSTART;VALUE=DATE:20171028
DTEND;VALUE=DATE:20171029
DTSTAMP:20260420T133113
CREATED:20170928T163240Z
LAST-MODIFIED:20170928T164239Z
UID:1436-1509148800-1509235199@www.marketingpre.com.br
SUMMARY:1º Encontro Nacional dos Profissionais de Estética
DESCRIPTION:Clique aqui para mais informações. \n\n		\n		Compartilhar:Clique para compartilhar no Twitter(abre em nova janela)Clique para compartilhar no Facebook(abre em nova janela)Compartilhe no Google+(abre em nova janela)Clique para compartilhar no LinkedIn(abre em nova janela)Clique para compartilhar no WhatsApp(abre em nova janela)\n\n	Relacionado\n
URL:https://www.marketingpre.com.br/calendario/atuacao-estetica-nas-hipercromias-meeting-sao-paulo-2/
ATTACH;FMTTYPE=image/png:https://www.marketingpre.com.br/wp-content/uploads/2017/09/logo_evento.png
END:VEVENT
END:VCALENDAR